BEGIN:VCALENDAR
VERSION:2.0
PRODID:-//hacksw/handcal//NONSGML v1.0//EN
BEGIN:VEVENT
SUMMARY:[R1] Les Andelys Vs Cherbourg
UID:6b6c959f-dd00-417c-8314-bf3670912598
DTSTART:20260419T070000Z
DTEND:20260419T220000Z
LOCATION:Terrain - Stade Rene Tomasini Stade Rene Tomasini allee du roi de Rome 27700 Les Andelys
CATEGORIES:Sportif
STATUS:
DESCRIPTION:<p>3eme journee contre les Seagulls de Cherbourg, aux
 Andelys</p>
 
 <p>Rendez-vous 9h00 au terrain</p>
 
 <p>1er match
 11h00</p>
 
 <p>2eme match 14h00</p>
URL;VALUE=URI:https://www.lesandelys-baseball.com/evenements/2026/04/19/r1-les-andelys-vs-cherbourg-2435437
END:VEVENT
END:VCALENDAR
