BEGIN:VCALENDAR
VERSION:2.0
PRODID:-//hacksw/handcal//NONSGML v1.0//EN
BEGIN:VEVENT
SUMMARY:[R1] Les Andelys @ Caen
UID:de66a0c8-bdba-4600-ab8d-28b7a2806a15
DTSTART:20260426T053000Z
DTEND:20260426T220000Z
LOCATION:Localisation 15 Av. du 19 Mars 1962 14123 ifs
CATEGORIES:Sportif
STATUS:
DESCRIPTION:<p>Deplacement ches les Phenix de Caen pour le compte de
 la 5eme journee du championnat.</p>
 
 <p>Rendez-vous 7h15 parking du
 pont</p>
URL;VALUE=URI:https://www.lesandelys-baseball.com/evenements/2026/04/26/r1-les-andelys-at-caen-2439314
END:VEVENT
END:VCALENDAR
